Workbook

Sheet Fragebogen
A1: Nr. | B1: Bitte geben Sie an, wie gut die folgenden Aussagen auf Sie zutreffen. Ich meditiere … | C1: Rating: 1 = "trifft gar nicht zu" bis 6 = "trifft vollkommen zu"
A2: 1 | B2: ... weil ich innerlich zur Ruhe kommen will. | C2: 1 | D2: <=== In dieser Spalte die Werte eingeben
A3: 2 | B3: ... um mich zu entspannen. | C3: 1
A4: 3 | B4: ... weil ich gelassener werden möchte. | C4: 1
A5: 4 | B5: ... weil ich einen Ausgleich in meinem Alltag finden möchte. | C5: 1
A6: 5 | B6: ... weil ich innere Kraft sammeln möchte. | C6: 1
A7: 6 | B7: ... weil ich berufliche Kompetenzen verbessern möchte. | C7: 1
A8: 7 | B8: ... um meine geistige Leistungsfähigkeit zu steigern. | C8: 1
A9: 8 | B9: ... um meine Konzentration zu verbessern. | C9: 1
A10: 9 | B10: ... um kreativer zu werden. | C10: 1
A11: 10 | B11: ... um wichtigen Zielen in meinem Leben besser nachgehen zu können. | C11: 1
A12: 11 | B12: ... um meinen Körper besser wahrzunehmen. | C12: 1
A13: 12 | B13: ... weil ich die Verbundenheit mit der Natur spüren möchte. | C13: 1
A14: 13 | B14: ... um meine momentanen Gedanken wahrzunehmen. | C14: 1
... A31: 30 | B31: ... um eine tiefere Einsicht in die Natur der Dinge zu gewinnen. | C31: 1

Sheet Auswertung
A1: Motivation | B1: Eigene Werte | C1: Anfänger | D1: Fortgeschrittene
A2: Entspannung | B2: =AVERAGE(Fragebogen!C2:C6) -> 1 | C2: =Normwerte!B34 -> 4.74 | D2: =Normwerte!C34 -> 4.76
A3: Leistungssteigerung | B3: =AVERAGE(Fragebogen!C7:C11) -> 1 | C3: =Normwerte!B35 -> 3.18 | D3: =Normwerte!C35 -> 3.52
A4: Selbsterforschung | B4: =AVERAGE(Fragebogen!C12:C16) -> 1 | C4: =Normwerte!B36 -> 3.46 | D4: =Normwerte!C36 -> 3.96
A5: Problembewältigung | B5: =AVERAGE(Fragebogen!C17:C21) -> 1 | C5: =Normwerte!B37 -> 3.34 | D5: =Normwerte!C37 -> 2.96
A6: Mitgefühl/Herz | B6: =AVERAGE(Fragebogen!C22:C26) -> 1 | C6: =Normwerte!B38 -> 3.04 | D6: =Normwerte!C38 -> 4.34
A7: Erleuchtung | B7: =AVERAGE(Fragebogen!C27:C31) -> 1 | C7: =Normwerte!B39 -> 2.82 | D7: =Normwerte!C39 -> 4.12

Sheet Normwerte
A1: Item | B1: Anfänger | C1: Fortgeschrittene
A2: ... weil ich innerlich zur Ruhe kommen will. | B2: 5.3 | C2: 5.1 | E2: Items und Mittelwerte entnommen aus:
A3: ... um mich zu entspannen. | B3: 4.8 | C3: 4.5 | E3: Sedlmeier, P., & Theumer, J. (2020). Why do people begin to meditate and why do they continue? Mindfulness, 11, 1527–1545.
A4: ... weil ich gelassener werden möchte. | B4: 4.7 | C4: 4.9 | E4: https://doi.org/10.1007/s12671-020-01367-w
A5: ... weil ich einen Ausgleich in meinem Alltag finden möchte. | B5: 4 | C5: 4.1
A6: ... weil ich innere Kraft sammeln möchte. | B6: 4.9 | C6: 5.2
A7: ... weil ich berufliche Kompetenzen verbessern möchte. | B7: 2.3 | C7: 2.6
A8: ... um meine geistige Leistungsfähigkeit zu steigern. | B8: 3.3 | C8: 3.6
A9: ... um meine Konzentration zu verbessern. | B9: 3.7 | C9: 4.4
A10: ... um kreativer zu werden. | B10: 2.7 | C10: 2.8
A11: ... um wichtigen Zielen in meinem Leben besser nachgehen zu können. | B11: 3.9 | C11: 4.2
A12: ... um meinen Körper besser wahrzunehmen. | B12: 4 | C12: 4.1
A13: ... weil ich die Verbundenheit mit der Natur spüren möchte. | B13: 3.2 | C13: 3.5
A14: ... um meine momentanen Gedanken wahrzunehmen. | B14: 3.5 | C14: 4.4
A15: ... weil ich mehr Mitgefühl für mich selbst entwickeln möchte. | B15: 3.4 | C15: 3.8
A16: ... um die tiefen Beweggründe für mein Handeln zu erkennen. | B16: 3.2 | C16: 4
... A31: ... um eine tiefere Einsicht in die Natur der Dinge zu gewinnen. | B31: 3.2 | C31: 4.9
A34: Entspannung | B34: =AVERAGE(B2:B6) -> 4.74 | C34: =AVERAGE(C2:C6) -> 4.76
A35: Leistungssteigerung | B35: =AVERAGE(B7:B11) -> 3.18 | C35: =AVERAGE(C7:C11) -> 3.52
A36: Selbsterforschung | B36: =AVERAGE(B12:B16) -> 3.46 | C36: =AVERAGE(C12:C16) -> 3.96
A37: Problembewältigung | B37: =AVERAGE(B17:B21) -> 3.34 | C37: =AVERAGE(C17:C21) -> 2.96
A38: Mitgefühl/Herz | B38: =AVERAGE(B22:B26) -> 3.04 | C38: =AVERAGE(C22:C26) -> 4.34
A39: Erleuchtung | B39: =AVERAGE(B27:B31) -> 2.82 | C39: =AVERAGE(C27:C31) -> 4.12
